BEGIN:VCALENDAR
VERSION:2.0
PRODID:-//eventon.com NONSGML v1.0//EN
CALSCALE:GREGORIAN
METHOD:PUBLISH
BEGIN:VEVENT
UID:69e9e76c5c3cf
DTSTAMP:20260423T093332Z
DTSTART:20191103
DTEND:20191104
LOCATION:
SUMMARY:Bergkamener Eisenbahn
DESCRIPTION:Details zur Veranstaltung demnächst hier\nhttps://mec-wupperta
 l.de/veranstaltungen/bergkamener-eisenbahn-sonntag/
URL:https://mec-wuppertal.de/veranstaltungen/bergkamener-eisenbahn-sonntag/
END:VEVENT
END:VCALENDAR