BEGIN:VCALENDAR
VERSION:2.0
PRODID:-//eventon.com NONSGML v1.0//EN
CALSCALE:GREGORIAN
METHOD:PUBLISH
BEGIN:VEVENT
UID:69e8abd2a8f31
DTSTAMP:20260422T110658Z
DTSTART:20141126T170000Z
DTEND:20141126T210000Z
LOCATION:Hallen der Fa. Holzrichter Eschenstraße 81\,  42281 Wuppertal
SUMMARY:Adventsvorführung 2014
DESCRIPTION:Freuen Sie sich am 26. November\,  3.\,  10. und 17. Dezember 2
 014 auf vorweihnachtliche Stimmung in unserem Clubheim und erleben Sie die 
 Vielfalt der Modell-Eisenbahn. Modell-Eisenbahn in sieben verschiedenen Spu
 rweiten Modell der Wuppertaler Schwebebahn in H0 Modellbahn-Flohmarkt &amp;
  Verschleißteile-Verkauf Historische Filme aus dem Bergischen Land und der
  Schweiz Für Ihr[..]\nhttps://mec-wuppertal.de/veranstaltungen/advent-2014
 /
URL:https://mec-wuppertal.de/veranstaltungen/advent-2014/
END:VEVENT
END:VCALENDAR